Workbook
Name _ftn1: 'Volet 2'!#REF!
Name _ftnref1: 'Volet 2'!#REF!
Name _Toc362247096: 'page de garde'!#REF!
Name _Toc362247096: 'Volet 1'!#REF!
Name _Toc362247099: 'page de garde'!#REF!
Name _Toc362247099: 'Volet 1'!$C$21
Name _Toc362247107: 'page de garde'!#REF!
Name _Toc362247107: 'Volet 1'!$C$30

Sheet page de garde
D2: Questionnaire d'informations Request for Information | F2: Document Confidentialité | G2: AC33 V.I C0
D3: Fournisseur | F3: Dernière Mise à jour : Last update : | G3: 46265
C6: DATE | D6: Modification | E6: IND. | F6: REDIGE PAR | G6: VERIFIE PAR
C7: 45553 | D7: Intégration en §5 de questions sur la sécurité informatique | E7: H | F7: Y LEFLOCH | G7: B GARDE
C8: 46265 | D8: Intégration en §6 de questions sur la RSE | E8: I | F8: M SOULARD | G8: Y LEFLOCH

Sheet Volet 1
B2: #VALUE! | D2: AC33 Questionnaire d'informations Request for Information | F2: Contact Tronico : Tronico contact: | G2: Nom Prenom
D3: Fournisseur | F3: Dernière Mise à jour : Last update: | G3: Date
B5: Contact fournisseur - Ce formulaire a été complété par : Supplier contact – This questionnaire has been completed by:
B6: Nom, prénom / Name, First Name : Last name, first name :
B7: Fonction / Function :
B8: Téléphone / Phone :
B9: E-mail :
B11: Siège Social : Head Office:
B12: Adresse / Address :
B13: Directeur Général / CEO :
B14: Directeur commercial / Sales director :
B15: Téléphone / Phone :
B16: E-mail :
A18: N° Thème | B18: Item No. | C18: Questions / Questions asked | E18: YES / NO | F18: Commentaires / Comments
B19: INFORMATIONS GENERALES / GENERAL INFORMATION | J19: Impactant (Décision Acheteur/AQF)
A20: 1 | B20: 1-1 | C20: Êtes-vous intégré à un groupe ? Lequel ? Are you part of a group? Which one? | H20: =IF(E20="YES",1,0) * I20 -> 0 | I20: =IF(J20="YES",1,0) -> 1 | J20: YES
A21: 1 | B21: 1-2 | C21: Avez-vous un actionnaire majoritaire ? Do you have a majority shareholder? | H21: =IF(E21="YES",1,0) * I21 -> 0 | I21: 1
A22: 1 | B22: 1-3 | C22: Est-ce que votre chiffre d'affaires est stable ou croissant sur les 3 dernières années ? (communiquer le détail) Is your turnover stable or growing over the last 3 years? (communicate your details) | H22: =IF(E22="YES",1,0) * I22 -> 0 | I22: 1
A23: 2 | B23: 1-4 | C23: Avez-vous un secteur d'activité représentant plus de 30% de votre chiffre d'affaires ? (communiquer le détail) Do you have an activity representing more than 30% of your turnover? (communicate your details) | H23: =IF(E23="NO",1,0) * I23 -> 0 | I23: 1
A24: 2 | B24: 1-5 | C24: Avez-vous un client représentant plus de 20% de votre chiffre d'affaires ? Do you have a customer representing more than 20% of your turnover? | H24: =IF(E24="NO",1,0) * I24 -> 0 | I24: 1
A25: 1 | B25: 1-6 | C25: Consacrez-vous plus de 5% du CA pour les investissements par an sur ces 3 dernières années ? Do you dedicate more than 5% of turnover for investments per year over the last 3 years? | H25: =IF(E25="YES",1,0) * I25 -> 0 | I25: 1
A26: 1 | B26: 1-7 | C26: Votre notation à la Banque de France est-elle inférieure ou égale à 4 ? Communiquer la note obtenue Is your rating at the Banque de France less than or equal to 4? Communicate your rating obtained | H26: =IF(E26="YES",1,0) * I26 -> 0 | I26: 1
A27: 1 | B27: 1-8 | C27: Possédez-vous un système de gestion informatique? Si oui, lequel (ERP, GPAO …) ? Do you own a computer management system? If so, which one (ERP, GPAO ...)? | H27: =IF(E27="YES",1,0) * I27 -> 0 | I27: 1
A28: 1 | B28: 1-9 | C28: Effectif et organisation générale de l’entreprise / Fournir l'organigramme Workforce and general organization of the company / Provide the organizational chart.
A29: 1 | B29: 1-10 | C29: Quelles sont les technologies cibles ? What are the target technologies?
A30: 2 | B30: 1-11 | C30: Typologie de production / Typology of production :
C31: Prototype | H31: =IF(E31="YES",1,0) * I31 -> 0 | I31: 1
C32: Petite série / Low volume | H32: =IF(E32="YES",1,0) * I32 -> 0 | I32: 1
C33: Moyenne série / Medium volume | H33: =IF(E33="YES",1,0) * I33 -> 0 | I33: 1
C34: Grande série / High volume | H34: =IF(E34="YES",1,0) * I34 -> 0 | I34: =IF(J34="YES",1,0) -> 1 | J34: YES
A37: N° Thème | B37: Item No. | C37: Questions / Questions asked | E37: YES / NO | F37: Commentaires / Comments
B38: QUALITE / QUALITY
A39: 3 | B39: 2-1 | C39: Certifications :
C40: ISO 9001 | H40: =IF(E40="YES",1,0) * I40 -> 0 | I40: 1
C41: ISO 14001 | H41: =IF(E41="YES",1,0) * I41 -> 0 | I41: =IF(J41="YES",1,0) -> 0 | J41: NO
C42: ISO 13485 | H42: =IF(E42="YES",1,0) * I42 -> 0 | I42: =IF(J42="YES",1,0) -> 1 | J42: YES
C43: AS/EN 9100 | H43: =IF(E43="YES",1,0) * I43 -> 0 | I43: =IF(J43="YES",1,0) -> 1 | J43: YES
C44: NADCAP | H44: =IF(E44="YES",1,0) * I44 -> 0 | I44: =IF(J44="YES",1,0) -> 1 | J44: YES
C45: ISO 27001 (Si non, voir complément dans §5 / If not, see supplement in §5)
C46: Autres (Merci d'indiquer la certification) Other (Please indicate the certification)
...

Sheet Volet 2
B2: #VALUE! | D2: AC33 Questionnaire d'informations Request for Information | F2: Contact Tronico : Tronico contact: | G2: ='Volet 1'!G2 -> Nom Prenom
D3: ='Volet 1'!D3:E3 -> Fournisseur | F3: Dernière Mise à jour : Last update: | G3: ='Volet 1'!G3 -> Date
B5: Contact fournisseur - Ce formulaire a été complété par : Supplier contact – This questionnaire has been completed by:
B6: Nom, prénom / Name, First Name : Last name, first name : | D6: ='Volet 1'!D6:G6 -> 0
B7: Fonction / Function : | D7: ='Volet 1'!D7:G7 -> 0
B8: Téléphone / Phone : | D8: ='Volet 1'!D8:G8 -> 0
B9: E-mail : | D9: ='Volet 1'!D9:G9 -> 0
B11: INFORMATIONS SUR LA SOCIETE
B12: Raison sociale
B13: Forme juridique
B14: Numéro d'imatriculation
B15: Date d'immatriculation
B16: Siège social
B17: Site internet
B18: Adresse email | D18: ='Volet 1'!D12:G12 -> 0
B19: Numéro de téléphone
B20: Numéro de fax
B21: Domaines d'activité
B22: Capital social
B23: REPRESENTANT LEGAL
B24: Nom et Prénom | D24: ='Volet 1'!D13:G13 -> 0
B25: Date et lieu de naissance
B26: Natonialité(s)
B27: Fonction
B29: INFORMATIONS SUR L'ACTIONNARIAT
B30: STRUCTURE DE L'ACTIONNARIAT
B31: Entreprise publique (100%)
B32: Société privée avec un actionnaire majoritaire public
B33: Société privée non cotée en bourse
B34: Société privée avec un actionnaire minoritaire public
B35: Société privée cotée en bourse
B36: Indiquer ci-dessous la composition des participations de la société (personnes physiques et/ou entités commerciales en remontant jusqu’au bénéficiaire ultime (personne physique).
B37: ACTIONNARIAT : A LA DATE DE SIGNATURE DU QUESTIONNAIRE
B38: Actionnaires / Détenteurs | D38: Nationalité (s) | E38: Position | F38: % de participation
B44: PRINCIPAUX DIRIGEANTS DE LA SOCIETE
B45: Nom, prénom et fonction | E45: Nationalité(s)
B49: L'un de vos actionnaires ou dirigeants est-il ?
C51: une personne politique exposée (PEP)1 | K51: 1 Cf. Annexe du questionnaire
C52: un agent public ou une Entité publique
B53: Si oui, veuillez mentionner ci-dessous le nom des personnes concernées (utiliser une feuille séparée si besoin) :
...

Sheet Annexe Volet2
A2: ANNEXE 1 PERSONNES POLITIQUEMENT EXPOSEES (PPE)
A4: □ Définition de la notion de PPE : La quatrième directive anti-blanchiment (UE) 2015/849 du 20 mai 2015 et les dispositions de l’article L. 561-10 2° du Code monétaire et financier définissent les PPE comme des personnes qui exercent, ou ont cessé d’exercer depuis moins d’un an, des fonctions politiques, juridictionnelles ou administratives pour le compte de la France, d’un Etat étranger ou d’une organisation internationale, ainsi que leurs proches. □ Les fonctions concernées2 - Chef d’Etat, chef de gouvernement, membre d’un gouvernement national ou de la Commission européenne ; - Membre d’une assemblée parlementaire nationale (député comme sénateur) ou du Parlement européen, dirigeant d’un parti politique ; - Magistrat de la Cour de Cassation, conseiller d’Etat et membre du Conseil Constitutionnel ou leurs équivalents à l’étranger ; - Magistrat de la Cour des comptes ou leurs équivalents à l’étranger ; - Dirigeant ou membre de l’organe de direction d’une banque centrale ; - Ambassadeur ou chargé d’affaires ; - Officier général, ou officier supérieur assurant le commandement d’une armée ; - Membre d’un organe d’administration, de direction ou de surveillance d’une entreprise publique exerçant son activité au niveau national ; - Directeur, directeur adjoint, membre du conseil d’une organisation internationale. □ Les proches concernés3 - Les membres directs de la famille des PPE, notamment : o Le conjoint (peu importe la nature de l’alliance) ; o Les enfants, ainsi que leur conjoint ; o Les parents. - Les personnes étroitement associées aux PPE, notamment dans le cadre d’une société ou structure juridique (fiducie ou trust) ou entretenant un lien d’affaires (commercial ou économique étroit).
A5: 2 Cf. Article R. 561-18 I du Code monétaire et financier transposé de l’article 3 §9 de la directive (UE) 2015/849 3 Cf. Article R. 561-18 II du Code monétaire et financier transposé de l’article 3 §10 et §11 de la directive (UE) 2015/849
